BEGIN:VCALENDAR
VERSION:2.0
PRODID:-//Realtors Association of Metropolitan Pittsburgh - ECPv6.15.20//NONSGML v1.0//EN
CALSCALE:GREGORIAN
METHOD:PUBLISH
X-ORIGINAL-URL:https://realtorspgh.com
X-WR-CALDESC:Events for Realtors Association of Metropolitan Pittsburgh
REFRESH-INTERVAL;VALUE=DURATION:PT1H
X-Robots-Tag:noindex
X-PUBLISHED-TTL:PT1H
BEGIN:VTIMEZONE
TZID:America/New_York
BEGIN:DAYLIGHT
TZOFFSETFROM:-0500
TZOFFSETTO:-0400
TZNAME:EDT
DTSTART:20250309T070000
END:DAYLIGHT
BEGIN:STANDARD
TZOFFSETFROM:-0400
TZOFFSETTO:-0500
TZNAME:EST
DTSTART:20251102T060000
END:STANDARD
BEGIN:DAYLIGHT
TZOFFSETFROM:-0500
TZOFFSETTO:-0400
TZNAME:EDT
DTSTART:20260308T070000
END:DAYLIGHT
BEGIN:STANDARD
TZOFFSETFROM:-0400
TZOFFSETTO:-0500
TZNAME:EST
DTSTART:20261101T060000
END:STANDARD
BEGIN:DAYLIGHT
TZOFFSETFROM:-0500
TZOFFSETTO:-0400
TZNAME:EDT
DTSTART:20270314T070000
END:DAYLIGHT
BEGIN:STANDARD
TZOFFSETFROM:-0400
TZOFFSETTO:-0500
TZNAME:EST
DTSTART:20271107T060000
END:STANDARD
END:VTIMEZONE
BEGIN:VEVENT
DTSTART;VALUE=DATE:20260613
DTEND;VALUE=DATE:20260619
DTSTAMP:20260425T103422
CREATED:20260414T193725Z
LAST-MODIFIED:20260414T193847Z
UID:10000615-1781308800-1781827199@realtorspgh.com
SUMMARY:NAR Legislative Meetings
DESCRIPTION:The National Association of REALTORS will be hosting the 2026 Legislative Meetings in Washington\, DC. \nFor More Information\, click HERE.
URL:https://realtorspgh.com/event/nar-legislative-meetings-3/
LOCATION:Walter E. Washington Convention Center\, 801 Allen Y Lew Place NW\, Washington\, DC\, 20001\, United States
CATEGORIES:National Association of REALTORS
END:VEVENT
END:VCALENDAR