BEGIN:VCALENDAR
VERSION:2.0
PRODID:-//wp-events-plugin.com//7.2.3.1//EN
TZID:America/New_York
X-WR-TIMEZONE:America/New_York
BEGIN:VEVENT
UID:824@realtorspgh.com
DTSTART;TZID=America/New_York:20260430T100000
DTEND;TZID=America/New_York:20260430T120000
DTSTAMP:20260330T202106Z
URL:https://realtorspgh.com/ramp-events/walking-ce-tour-penn-liberty-histo
 ric-district-thurs-apr-30-2026-10-am-12-pm/
SUMMARY:Walking CE Tour: Penn Liberty Historic District | Thurs.\, Apr. 30\
 , 2026 | 10 AM - 12 PM
DESCRIPTION:Location: Starting at 819 Penn Ave at 9th St (Arts Landing Welc
 ome Center)\, Pittsburgh 15222\n\n2 hours CE\n\nThe Penn-Liberty corridor 
 in Downtown Pittsburgh was an important retail\, commercial\, and entertai
 nment center in the 19th and early 20th centuries. The Historic District
 —designated as such at both the City and Federal levels in 1987 and late
 r expanded—encompasses a large section of the Penn-Liberty corridor\, in
 cluding the Cultural District. It features outstanding examples of histori
 c buildings ranging from early skyscrapers to more modest cast-iron-front 
 buildings to spaces that offered vaudeville shows\, many of them designed 
 by the area’s most significant architects.\n\nFollowing a decades-long p
 eriod of decline in the mid-20th century\, the district has experienced s
 ubstantial revitalization in the last 30 years\, thanks in large part to h
 istoric preservation. Tour participants will see great architecture\, lear
 n about the district’s history\, and understand the crucial role of the 
 Pittsburgh Cultural Trust and PHLF in bringing the district back to life.\
 nREGISTRATION OPTIONS:\n\n 	ONLINE PAYMENT with credit card using the form
  below.\n 	BY PHONE with credit card - 412-563-5200 x217 or x219\n 	BY MAI
 L with check - RAMP 1427 W. Liberty Ave. Pittsburgh PA 15226. (please incl
 ude student names)\n\n&nbsp\;
ATTACH;FMTTYPE=image/jpeg:https://realtorspgh.com/wp-content/uploads/2025/
 12/tracy-scaled.png
CATEGORIES:CE - Real Estate licensees,CRE classes
LOCATION:Various\, Various\, Pittsburgh\, United States
GEO:40.441673;-80.009653
X-APPLE-STRUCTURED-LOCATION;VALUE=URI;X-ADDRESS=Various\, Pittsburgh\, Unit
 ed States;X-APPLE-RADIUS=100;X-TITLE=Various:geo:40.441673,-80.009653
END:VEVENT
BEGIN:VTIMEZONE
TZID:America/New_York
X-LIC-LOCATION:America/New_York
BEGIN:DAYLIGHT
DTSTART:20260308T030000
TZOFFSETFROM:-0500
TZOFFSETTO:-0400
TZNAME:EDT
END:DAYLIGHT
END:VTIMEZONE
END:VCALENDAR