BEGIN:VCALENDAR
VERSION:2.0
PRODID:-//wp-events-plugin.com//7.2.3.1//EN
TZID:America/New_York
X-WR-TIMEZONE:America/New_York
BEGIN:VEVENT
UID:817@realtorspgh.com
DTSTART;TZID=America/New_York:20260715T173000
DTEND;TZID=America/New_York:20260715T213000
DTSTAMP:20260305T174634Z
URL:https://realtorspgh.com/ramp-events/valuation-of-residential-property-
 30-hrs-ce-2-broker-credits-wed-july-15-sept-2-2026-530-930-pm/
SUMMARY:Valuation of Residential Properties (30 hrs CE & 2 Broker credits) 
 Wed.\, July 15 - Sept. 2\, 2026 | 5:30-9:30 PM
DESCRIPTION:On Zoom.\n\nTaught by Mark Smeltzer\, Jr. MAI\, SRA\, AI-GRS\, 
 AI-RRS.\n\n&nbsp\;\n\nThis course gives you two broker credits and it is 3
 0 hours of CE.\n\nTopics include:\n\nI. Introduction to Valuating\n\nII. M
 arket Identification and Market Forces\n\nIII. Principles of Real Property
  Valuation\n\nIV. Area and Neighborhood Analysis\n\nV. Site Analysis\n\nVI
 . Building Analysis\n\nVII. Direct Sales Comparison Approach\n\n&nbsp\;\n\
 n&nbsp\;
ATTACH;FMTTYPE=image/jpeg:https://realtorspgh.com/wp-content/uploads/2026/
 03/Mark-1.png
CATEGORIES:Broker Candidates
LOCATION:Zoom Meeting\, This is an online Zoom class\, Pittsburgh\, PA\, 15
 226\, United States
GEO:40.39006;-80.014366
X-APPLE-STRUCTURED-LOCATION;VALUE=URI;X-ADDRESS=This is an online Zoom clas
 s\, Pittsburgh\, PA\, 15226\, United States;X-APPLE-RADIUS=100;X-TITLE=Zoo
 m Meeting:geo:40.39006,-80.014366
END:VEVENT
BEGIN:VTIMEZONE
TZID:America/New_York
X-LIC-LOCATION:America/New_York
BEGIN:DAYLIGHT
DTSTART:20260308T030000
TZOFFSETFROM:-0500
TZOFFSETTO:-0400
TZNAME:EDT
END:DAYLIGHT
END:VTIMEZONE
END:VCALENDAR