BEGIN:VCALENDAR
VERSION:2.0
PRODID:-//wp-events-plugin.com//7.2.3.1//EN
TZID:America/New_York
X-WR-TIMEZONE:America/New_York
BEGIN:VEVENT
UID:746@realtorspgh.com
DTSTART;TZID=America/New_York:20260224T090000
DTEND;TZID=America/New_York:20260224T150000
DTSTAMP:20251007T191412Z
URL:https://realtorspgh.com/ramp-events/real-estate-practice-feb-24-april-
 14-2025-9-am-3-pm/
SUMMARY:Real Estate Practice | Feb 24 - April 14\, 2026 | 9 AM - 3 PM
DESCRIPTION:Location: RAMP 1427 W. Liberty Ave.\, Pgh 15226\n\nTaught by Mi
 ke Suley\, CRB\, CRS\, CPE.\nClass dates:\n2/24 Tues\,\n3/3 Tues\,\n3/10 T
 ues\,\n3/16 Mon\,\n3/24 Tues\,\n3/31\, Tues\,\n4/7 Tues\,\n4/14 Tues\n\n\n
 This is the required pre-license course\, Real Estate Practice (45 hours/3
  credits).\n\n\nThe instructor will be teaching the following concepts:\n\
 n1. An introduction to the real estate business\n2. Laws and regulations a
 ffecting real estate practice\n3. Ethics\, Antitrust\, Fair Housing Laws\,
  broker salesperson issues\n4. Agency law\n5. Kinds of agency relationship
 s\n6. Compensation and fees\n\nREQUIRED BOOK: The required book is Modern 
 Real Estate Practice in PA - 15th edition\n\nCall 412-563-5200 x219 to reg
 ister by phone or use the form below.
ATTACH;FMTTYPE=image/jpeg:https://realtorspgh.com/wp-content/uploads/2025/
 06/Copy-of-construction.png
CATEGORIES:Pre-License
LOCATION:RAMP Headquarters\, 1427 W. Liberty Ave\, Pittsburgh\, PA\, 15226\
 , United States
GEO:40.410675;-80.014038
X-APPLE-STRUCTURED-LOCATION;VALUE=URI;X-ADDRESS=1427 W. Liberty Ave\, Pitts
 burgh\, PA\, 15226\, United States;X-APPLE-RADIUS=100;X-TITLE=RAMP Headqua
 rters:geo:40.410675,-80.014038
END:VEVENT
BEGIN:VTIMEZONE
TZID:America/New_York
X-LIC-LOCATION:America/New_York
BEGIN:STANDARD
DTSTART:20251102T010000
TZOFFSETFROM:-0400
TZOFFSETTO:-0500
TZNAME:EST
END:STANDARD
END:VTIMEZONE
END:VCALENDAR