BEGIN:VCALENDAR
VERSION:2.0
PRODID:-//wp-events-plugin.com//7.2.3.1//EN
TZID:America/New_York
X-WR-TIMEZONE:America/New_York
BEGIN:VEVENT
UID:714@realtorspgh.com
DTSTART;TZID=America/New_York:20260107T083000
DTEND;TZID=America/New_York:20260107T123000
DTSTAMP:20251112T165859Z
URL:https://realtorspgh.com/ramp-events/real-estate-law-30-hrs-2-credits-w
 ed-january-7-february-25-2026-830-am-1230-pm/
SUMMARY:Real Estate Law (30 hrs CE & 2 Broker credits) | Wed.\, January 7 
 – February 25\, 2026 | 8:30 AM - 12:30 PM
DESCRIPTION:Location: ZOOM\n\n&nbsp\;\n\nALL BROKER CANDIDATES MUST TAKE RE
 AL ESTATE LAW.\n\nEmily Fullerton\, Esq. teaches the mandatory broker cour
 se\, Real Estate Law.\n\nReal Estate Law provides an introduction to Real 
 Property and ownership\, contract law\, legal aspects of the real estate t
 ransaction\, leases\, law and the real estate licensee\, and law of agency
 .\n\nPrice includes shipped book.\n\n&nbsp\;\n\n&nbsp\;
ATTACH;FMTTYPE=image/jpeg:https://realtorspgh.com/wp-content/uploads/2025/
 08/Copy-of-Copy-of-Copy-of-Dale-1-scaled.png
CATEGORIES:Broker Candidates
LOCATION:Zoom Meeting\, This is an online Zoom class\, Pittsburgh\, PA\, 15
 226\, United States
GEO:40.39006;-80.014366
X-APPLE-STRUCTURED-LOCATION;VALUE=URI;X-ADDRESS=This is an online Zoom clas
 s\, Pittsburgh\, PA\, 15226\, United States;X-APPLE-RADIUS=100;X-TITLE=Zoo
 m Meeting:geo:40.39006,-80.014366
END:VEVENT
BEGIN:VTIMEZONE
TZID:America/New_York
X-LIC-LOCATION:America/New_York
BEGIN:STANDARD
DTSTART:20251102T010000
TZOFFSETFROM:-0400
TZOFFSETTO:-0500
TZNAME:EST
END:STANDARD
END:VTIMEZONE
END:VCALENDAR