BEGIN:VCALENDAR
VERSION:2.0
PRODID:-//wp-events-plugin.com//7.2.3.1//EN
TZID:America/New_York
X-WR-TIMEZONE:America/New_York
BEGIN:VEVENT
UID:631@realtorspgh.com
DTSTART;TZID=America/New_York:20250607T090000
DTEND;TZID=America/New_York:20250607T160000
DTSTAMP:20250522T140000Z
URL:https://realtorspgh.com/ramp-events/pa-state-appraisal-regulations-and
 -guidelines-update-sat-may-17-2025-9-am-4-pm/
SUMMARY:PA State Appraisal Regulations and Guidelines Update | Sat.\, June 
 7\, 2025 | 9 AM - 4 PM
DESCRIPTION:This is a hybrid course. Meet on ZOOM or at 1427 West Liberty A
 ve.\, Pittsburgh PA 15226\, please select one from the menu below.\n\nPA S
 tate Appraisal and Guidelines Update taught by Mark Smeltzer Jr.\, Esq.  
 Total of 7 hours. (Includes the 2-hr State mandated requirement.)\n\nAppro
 ved for continuing education for your appraiser and real estate license.\n
 \n&nbsp\;
ATTACH;FMTTYPE=image/jpeg:https://realtorspgh.com/wp-content/uploads/2021/
 04/pa-flag_200.jpg
CATEGORIES:Appraisal,CE - Real Estate licensees
LOCATION:HYBRID - Zoom or In-person\, 1427 W. Liberty Ave\, Pittsburgh\, PA
 \, 15226\, United States
GEO:40.410675;-80.014038
X-APPLE-STRUCTURED-LOCATION;VALUE=URI;X-ADDRESS=1427 W. Liberty Ave\, Pitts
 burgh\, PA\, 15226\, United States;X-APPLE-RADIUS=100;X-TITLE=HYBRID - Zoo
 m or In-person:geo:40.410675,-80.014038
END:VEVENT
BEGIN:VTIMEZONE
TZID:America/New_York
X-LIC-LOCATION:America/New_York
BEGIN:DAYLIGHT
DTSTART:20250309T030000
TZOFFSETFROM:-0500
TZOFFSETTO:-0400
TZNAME:EDT
END:DAYLIGHT
END:VTIMEZONE
END:VCALENDAR