BEGIN:VCALENDAR
VERSION:2.0
PRODID:-//wp-events-plugin.com//7.2.3.1//EN
TZID:America/New_York
X-WR-TIMEZONE:America/New_York
BEGIN:VEVENT
UID:793@realtorspgh.com
DTSTART;TZID=America/New_York:20260414T120000
DTEND;TZID=America/New_York:20260414T140000
DTSTAMP:20260128T162238Z
URL:https://realtorspgh.com/ramp-events/cbre-program-avoiding-legal-disput
 es-in-commercial-leases-tues-april-14-2026-12-2-pm/
SUMMARY:CBRE ONLY | Avoiding Legal Disputes in Commercial Leases | Tues.\, 
 April 14\, 2026 | 12 - 2 PM
DESCRIPTION:Location: Zoom (link will be emailed a day or two before the c
 lass)\n\nThis is a private course for CBRE only.\n\n2 hours CE\n\nTaught b
 y Tim Hazel\, Esq.\n\nThis course provides valuable insight into drafting 
 and managing commercial leases to help minimize legal disputes using clear
  lease documentation and proactive lease management. The instructor will h
 elp licensees Identify and avoid common pitfalls that lead the parties to 
 litigation and discover best practices for fostering positive landlord-ten
 ant relationships. Instructors use case studies and legal examples to prov
 ide understanding.\nREGISTRATION OPTIONS:\n\n 	ONLINE PAYMENT with credit 
 card using the form below.\n 	BY PHONE with credit card - 412-563-5200 x21
 7 or x219\n 	BY MAIL with check - RAMP 1427 W. Liberty Ave. Pittsburgh PA 
 15226. (please include student names)\n\n&nbsp\;
ATTACH;FMTTYPE=image/jpeg:https://realtorspgh.com/wp-content/uploads/2025/
 08/cbre-scaled.png
CATEGORIES:Private classes
LOCATION:Zoom Meeting\, This is an online Zoom class\, Pittsburgh\, PA\, 15
 226\, United States
GEO:40.39006;-80.014366
X-APPLE-STRUCTURED-LOCATION;VALUE=URI;X-ADDRESS=This is an online Zoom clas
 s\, Pittsburgh\, PA\, 15226\, United States;X-APPLE-RADIUS=100;X-TITLE=Zoo
 m Meeting:geo:40.39006,-80.014366
END:VEVENT
BEGIN:VTIMEZONE
TZID:America/New_York
X-LIC-LOCATION:America/New_York
BEGIN:DAYLIGHT
DTSTART:20260308T030000
TZOFFSETFROM:-0500
TZOFFSETTO:-0400
TZNAME:EDT
END:DAYLIGHT
END:VTIMEZONE
END:VCALENDAR